BEGIN:VCALENDAR
VERSION:2.0
PRODID:-//Kematenkenntsich.com - ECPv6.15.20//NONSGML v1.0//EN
CALSCALE:GREGORIAN
METHOD:PUBLISH
X-ORIGINAL-URL:https://kematenkenntsich.com
X-WR-CALDESC:Veranstaltungen für Kematenkenntsich.com
REFRESH-INTERVAL;VALUE=DURATION:PT1H
X-Robots-Tag:noindex
X-PUBLISHED-TTL:PT1H
BEGIN:VTIMEZONE
TZID:UTC
BEGIN:STANDARD
TZOFFSETFROM:+0000
TZOFFSETTO:+0000
TZNAME:UTC
DTSTART:20240101T000000
END:STANDARD
END:VTIMEZONE
BEGIN:VEVENT
DTSTART;TZID=UTC:20250530T183000
DTEND;TZID=UTC:20250530T190000
DTSTAMP:20260424T133630
CREATED:20250504T044843Z
LAST-MODIFIED:20250504T044843Z
UID:20706-1748629800-1748631600@kematenkenntsich.com
SUMMARY:Gebet für den Frieden
DESCRIPTION:
URL:https://kematenkenntsich.com/event/gebet-fuer-den-frieden-112/
LOCATION:Pfarrkirche Kematen\, Dorfplatz 502\, Kematen\, Tirol\, 6175\, Österreich
ATTACH;FMTTYPE=image/jpeg:https://kematenkenntsich.com/wp-content/uploads/2025/05/Plakat_Gebet_fuer_den_Frieden_30Mai.jpg
ORGANIZER;CN="Kematen f%C3%BCr den Frieden":MAILTO:ukraine@kematenkenntsich.tirol
END:VEVENT
END:VCALENDAR