BEGIN:VCALENDAR
VERSION:2.0
PRODID:-//Kematenkenntsich.com - ECPv6.15.20//NONSGML v1.0//EN
CALSCALE:GREGORIAN
METHOD:PUBLISH
X-ORIGINAL-URL:https://kematenkenntsich.com
X-WR-CALDESC:Veranstaltungen für Kematenkenntsich.com
REFRESH-INTERVAL;VALUE=DURATION:PT1H
X-Robots-Tag:noindex
X-PUBLISHED-TTL:PT1H
BEGIN:VTIMEZONE
TZID:UTC
BEGIN:STANDARD
TZOFFSETFROM:+0000
TZOFFSETTO:+0000
TZNAME:UTC
DTSTART:20240101T000000
END:STANDARD
END:VTIMEZONE
BEGIN:VEVENT
DTSTART;TZID=UTC:20250605T193000
DTEND;TZID=UTC:20250605T223000
DTSTAMP:20260424T133641
CREATED:20250516T101021Z
LAST-MODIFIED:20250516T101021Z
UID:20716-1749151800-1749162600@kematenkenntsich.com
SUMMARY:Shake it up - Cocktail together
DESCRIPTION:
URL:https://kematenkenntsich.com/event/shake-it-up-cocktail-together/
LOCATION:Kentrum\, Dorfstraße 4\, Kematen in Tirol\, Tirol\, 6175\, Österreich
ATTACH;FMTTYPE=image/jpeg:https://kematenkenntsich.com/wp-content/uploads/2025/05/cocktail_EN2_250508-scaled.jpg
END:VEVENT
END:VCALENDAR