BEGIN:VCALENDAR
VERSION:2.0
PRODID:-//Kematenkenntsich.com - ECPv6.15.20//NONSGML v1.0//EN
CALSCALE:GREGORIAN
METHOD:PUBLISH
X-WR-CALNAME:Kematenkenntsich.com
X-ORIGINAL-URL:https://kematenkenntsich.com
X-WR-CALDESC:Veranstaltungen für Kematenkenntsich.com
REFRESH-INTERVAL;VALUE=DURATION:PT1H
X-Robots-Tag:noindex
X-PUBLISHED-TTL:PT1H
BEGIN:VTIMEZONE
TZID:Europe/Paris
BEGIN:DAYLIGHT
TZOFFSETFROM:+0100
TZOFFSETTO:+0200
TZNAME:CEST
DTSTART:20240331T010000
END:DAYLIGHT
BEGIN:STANDARD
TZOFFSETFROM:+0200
TZOFFSETTO:+0100
TZNAME:CET
DTSTART:20241027T010000
END:STANDARD
BEGIN:DAYLIGHT
TZOFFSETFROM:+0100
TZOFFSETTO:+0200
TZNAME:CEST
DTSTART:20250330T010000
END:DAYLIGHT
BEGIN:STANDARD
TZOFFSETFROM:+0200
TZOFFSETTO:+0100
TZNAME:CET
DTSTART:20251026T010000
END:STANDARD
BEGIN:DAYLIGHT
TZOFFSETFROM:+0100
TZOFFSETTO:+0200
TZNAME:CEST
DTSTART:20260329T010000
END:DAYLIGHT
BEGIN:STANDARD
TZOFFSETFROM:+0200
TZOFFSETTO:+0100
TZNAME:CET
DTSTART:20261025T010000
END:STANDARD
END:VTIMEZONE
BEGIN:VEVENT
DTSTART;TZID=Europe/Paris:20250908T193000
DTEND;TZID=Europe/Paris:20250908T213000
DTSTAMP:20260424T103333
CREATED:20250804T132252Z
LAST-MODIFIED:20250805T134455Z
UID:20793-1757359800-1757367000@kematenkenntsich.com
SUMMARY:DON KOSAKEN CHOR
DESCRIPTION:Der weltbekannte Chor gastiert mit einem Konzert in Kematen \nDON KOSAKEN CHOR\nSERGE JAROFF\nLeitung: WANJA HLIBKA \nMo\, 08.09.2025\n19:30 Uhr \nGroßer Saal\nHaus d. Gemeinde\,\nDorfplatz 2\,\nKematen i. T. \nDieser grandiose Weltklasse-Chor\, bekannt aus unzähligen Fernsehsendungen und CD Einspielungen\, wird im kommenden September 2025\, getragen von der Begeisterung seines Publikums\, stimmgewaltig mit einem bravourösen neuen Konzert-Programm in Kematen i.T. gastieren und wir freuen uns natürlich ganz besonders\, dass dieses Konzert stattfinden kann. Es werden ausschließlich Sänger dem Chor angehören\, die auch solistisch in Erscheinung treten können. Ein musikalisches Fest großer Stimmen und inniger Gesänge erwartet die Zuhörer. \nDurch eine langjährige Gastspieltätigkeit hat gerade dieser Chor unter seinem künstlerischen Leiter WANJA HLIBKA überall unzählige begeisterte und treue Zuhörer. Die Konzerte in Konzertsälen\, in großen\, aber auch in kleineren Kirchen sind inzwischen wohl mit dem Begriff „Kult“ zu umschreiben und werden überall mit stehenden Ovationen gefeiert. \nEs handelt sich um ein hochkarätiges Spitzenensemble. WANJA HLIBKA\, der künstlerische\, musikalische Leiter des Chores hat viele Jahre selbst als jüngster Solist im weltberühmten Chor von SERGE JAROFF gesungen und hat die Original-Arrangements als Ausgangsbasis seiner künstlerischen Arbeit nutzen dürfen. Die übrigen Sänger begeistern mit ihren wunderschönen Stimmen und dem festlichen Gesängen in einem oft überirdischen Klang ihr Publikum auf allen Stationen der Tournée. \nIn memoriam SERGE JAROFF\, der seine Don Kosaken einst zu Weltruhm führte und selbst Kirchenmusiker war. \nEs gibt inzwischen viele unterschiedliche sog. Kosaken-Formationen\, aber nur einen DON KOSAKEN CHOR SERGE JAROFF® \nKartenvorverkauf zu € 20\,– möglich bei Raiffeisenbank\, Bankstelle Kematen in Tirol\nRestkarten an der Abendkasse € 25\,—
URL:https://kematenkenntsich.com/event/don-kosaken-chor/
LOCATION:Haus der Gemeinde\, Dorfplatz 2\, Kematen in Tirol\, Tirol\, 6175\, Österreich
ATTACH;FMTTYPE=image/jpeg:https://kematenkenntsich.com/wp-content/uploads/2025/08/plakat_EN_250630-scaled.jpg
END:VEVENT
END:VCALENDAR