BEGIN:VCALENDAR
VERSION:2.0
PRODID:-//Kematenkenntsich.com - ECPv6.15.20//NONSGML v1.0//EN
CALSCALE:GREGORIAN
METHOD:PUBLISH
X-WR-CALNAME:Kematenkenntsich.com
X-ORIGINAL-URL:https://kematenkenntsich.com
X-WR-CALDESC:Veranstaltungen für Kematenkenntsich.com
REFRESH-INTERVAL;VALUE=DURATION:PT1H
X-Robots-Tag:noindex
X-PUBLISHED-TTL:PT1H
BEGIN:VTIMEZONE
TZID:Europe/Paris
BEGIN:DAYLIGHT
TZOFFSETFROM:+0100
TZOFFSETTO:+0200
TZNAME:CEST
DTSTART:20240331T010000
END:DAYLIGHT
BEGIN:STANDARD
TZOFFSETFROM:+0200
TZOFFSETTO:+0100
TZNAME:CET
DTSTART:20241027T010000
END:STANDARD
BEGIN:DAYLIGHT
TZOFFSETFROM:+0100
TZOFFSETTO:+0200
TZNAME:CEST
DTSTART:20250330T010000
END:DAYLIGHT
BEGIN:STANDARD
TZOFFSETFROM:+0200
TZOFFSETTO:+0100
TZNAME:CET
DTSTART:20251026T010000
END:STANDARD
BEGIN:DAYLIGHT
TZOFFSETFROM:+0100
TZOFFSETTO:+0200
TZNAME:CEST
DTSTART:20260329T010000
END:DAYLIGHT
BEGIN:STANDARD
TZOFFSETFROM:+0200
TZOFFSETTO:+0100
TZNAME:CET
DTSTART:20261025T010000
END:STANDARD
END:VTIMEZONE
BEGIN:VEVENT
DTSTART;VALUE=DATE:20250913
DTEND;VALUE=DATE:20251013
DTSTAMP:20260422T160924
CREATED:20250830T114518Z
LAST-MODIFIED:20250915T072109Z
UID:20799-1757721600-1760313599@kematenkenntsich.com
SUMMARY:Ausstellung  Renate Krauss
DESCRIPTION:RENATE KRAUSS 1935 – 2019\nMir ist die Martinswand ins Gesicht geschrieben  \nNeunzig Jahre alt wäre Renate Krauss dieses Jahr geworden. Manchen als Faktotum in Erinnerung und vielen anderen vielleicht gar nicht bekannt\, war sie eine hervorragende Malerin und Zeichnerin und Verfasserin von Texten mit erstaunlich poetischer Kraft. Ihr Lebenswerk\, durch eine Schenkung an die Gemeinde gelangt\, bleibt im Ort\, in dem die Künstlerin ein Leben lang eigensinnig\, unbeirrbar und mit großem Schaffensdrang gearbeitet hat\, gleichwohl konzentriert auf den lokalen Lebensraum\, auf den Naturraum hier und auf die eigene Verortung. Diese besondere Qualität versucht die Ausstellung in Würdigung des Nachlasses zu zeigen. \nFür diese Ausstellung wurden großzügig Räumlichkeiten von der Neuen Heimat Tirol zur Verfügung gestellt.  \nÖffnungszeiten\nWohnungen Rauthweg 7 \nFreitag\, 12.9.2025\, 17 – 21 Uhr\nSamstag\, 13.9.2025\, 15 – 19 Uhr\nSonntag\, 14.9.2025\, 15 – 19 Uhr  \nFreitag\, 19.9.2025\, 15 – 19 Uhr\nSamstag\, 20.9.2025\, 15 – 19 Uhr\nSonntag\, 21.9.2025\, 15 – 19 Uhr \nFreitag\, 26.9.2025\, 15 – 19 Uhr\nSamstag\, 27.9.2025\, 15 – 19 Uhr\nSonntag\, 28.9.2025\, 15 – 19 Uhr \nFreitag\, 03.10.2025\, 15 – 19 Uhr\nSamstag\, 04.10.2025\, 15 – 19 Uhr\nSonntag\, 05.10.2025\, 15 – 19 Uhr \nFreitag\, 10.10.2025\, 15 – 19 Uhr\nSamstag\, 11.10.2025\, 15 – 19 Uhr\nSonntag\, 12.10.2025\, 15 – 19 Uhr \nÖffnungszeiten\nKornkasten \nFreitag\, 12.9.2025\, 17 – 21 Uhr\nSamstar\, 13.9.2025\, 15 – 19 Uhr\nSonntag\, 14.9.2025\, 11 – 14 Uhr \nFreitag\, 19.9.2025\, 15 – 19 Uhr\nSamstag\, 20.9.2025\, 15 – 19 Uhr\nSonntag\, 21.9.2025\, 10 – 11.30 Uhr \nFreitag\, 03.10.2025\, 15 – 19 Uhr\nSamstag\, 04.10.2025\, 15 – 19 Uhr\nSonntag\, 05.10.2025\, 10 – 11.30 Uhr
URL:https://kematenkenntsich.com/event/ausstellung-renate-krauss/
LOCATION:Kornkasten\, Dorfplatz 1\, Kematen in Tirol\, Tirol\, 6175\, Österreich
ATTACH;FMTTYPE=image/jpeg:https://kematenkenntsich.com/wp-content/uploads/2025/08/krauss_postwurf_EN_250812.jpg
ORGANIZER;CN="Gemeinde Kematen":MAILTO:verwaltung@kematen.tirol.gv.at
END:VEVENT
END:VCALENDAR