BEGIN:VCALENDAR
VERSION:2.0
PRODID:-//Kematenkenntsich.com - ECPv6.15.20//NONSGML v1.0//EN
CALSCALE:GREGORIAN
METHOD:PUBLISH
X-ORIGINAL-URL:https://kematenkenntsich.com
X-WR-CALDESC:Veranstaltungen für Kematenkenntsich.com
REFRESH-INTERVAL;VALUE=DURATION:PT1H
X-Robots-Tag:noindex
X-PUBLISHED-TTL:PT1H
BEGIN:VTIMEZONE
TZID:Europe/Paris
BEGIN:DAYLIGHT
TZOFFSETFROM:+0100
TZOFFSETTO:+0200
TZNAME:CEST
DTSTART:20250330T010000
END:DAYLIGHT
BEGIN:STANDARD
TZOFFSETFROM:+0200
TZOFFSETTO:+0100
TZNAME:CET
DTSTART:20251026T010000
END:STANDARD
BEGIN:DAYLIGHT
TZOFFSETFROM:+0100
TZOFFSETTO:+0200
TZNAME:CEST
DTSTART:20260329T010000
END:DAYLIGHT
BEGIN:STANDARD
TZOFFSETFROM:+0200
TZOFFSETTO:+0100
TZNAME:CET
DTSTART:20261025T010000
END:STANDARD
BEGIN:DAYLIGHT
TZOFFSETFROM:+0100
TZOFFSETTO:+0200
TZNAME:CEST
DTSTART:20270328T010000
END:DAYLIGHT
BEGIN:STANDARD
TZOFFSETFROM:+0200
TZOFFSETTO:+0100
TZNAME:CET
DTSTART:20271031T010000
END:STANDARD
END:VTIMEZONE
BEGIN:VEVENT
DTSTART;TZID=Europe/Paris:20260206T150000
DTEND;TZID=Europe/Paris:20260206T180000
DTSTAMP:20260420T105755
CREATED:20260129T134525Z
LAST-MODIFIED:20260129T134525Z
UID:21386-1770390000-1770400800@kematenkenntsich.com
SUMMARY:Handarbeitscafe
DESCRIPTION:
URL:https://kematenkenntsich.com/event/handarbeitscafe-23/
LOCATION:Kentrum\, Dorfstraße 4\, Kematen in Tirol\, Tirol\, 6175\, Österreich
ATTACH;FMTTYPE=image/jpeg:https://kematenkenntsich.com/wp-content/uploads/2026/01/Handarbeitscafe-scaled.jpeg
END:VEVENT
END:VCALENDAR