BEGIN:VCALENDAR
VERSION:2.0
PRODID:-//Kematenkenntsich.com - ECPv6.15.20//NONSGML v1.0//EN
CALSCALE:GREGORIAN
METHOD:PUBLISH
X-ORIGINAL-URL:https://kematenkenntsich.com
X-WR-CALDESC:Veranstaltungen für Kematenkenntsich.com
REFRESH-INTERVAL;VALUE=DURATION:PT1H
X-Robots-Tag:noindex
X-PUBLISHED-TTL:PT1H
BEGIN:VTIMEZONE
TZID:UTC
BEGIN:STANDARD
TZOFFSETFROM:+0000
TZOFFSETTO:+0000
TZNAME:UTC
DTSTART:20240101T000000
END:STANDARD
END:VTIMEZONE
BEGIN:VEVENT
DTSTART;TZID=UTC:20250509T183000
DTEND;TZID=UTC:20250509T190000
DTSTAMP:20260424T133815
CREATED:20250504T044543Z
LAST-MODIFIED:20250504T044543Z
UID:20695-1746815400-1746817200@kematenkenntsich.com
SUMMARY:Gebet für den Frieden
DESCRIPTION:
URL:https://kematenkenntsich.com/event/gebet-fuer-den-frieden-109/
LOCATION:Pfarrkirche Kematen\, Dorfplatz 502\, Kematen\, Tirol\, 6175\, Österreich
ATTACH;FMTTYPE=image/jpeg:https://kematenkenntsich.com/wp-content/uploads/2025/05/Plakat_Gebet_fuer_den_Frieden_9Mai.jpg
ORGANIZER;CN="Kematen f%C3%BCr den Frieden":MAILTO:ukraine@kematenkenntsich.tirol
END:VEVENT
BEGIN:VEVENT
DTSTART;VALUE=DATE:20250516
DTEND;VALUE=DATE:20250526
DTSTAMP:20260424T133815
CREATED:20250410T161336Z
LAST-MODIFIED:20250410T161336Z
UID:20682-1747353600-1748217599@kematenkenntsich.com
SUMMARY:Ausstellung: Fragile Schönheit
DESCRIPTION:
URL:https://kematenkenntsich.com/event/ausstellung-fragile-schoenheit/
LOCATION:Kornkasten\, Dorfplatz 1\, Kematen in Tirol\, Tirol\, 6175\, Österreich
CATEGORIES:KematenKultur
ATTACH;FMTTYPE=image/jpeg:https://kematenkenntsich.com/wp-content/uploads/2025/04/Ausstellung-Minu-Ghedina-scaled.jpg
END:VEVENT
BEGIN:VEVENT
DTSTART;TZID=UTC:20250516T183000
DTEND;TZID=UTC:20250516T190000
DTSTAMP:20260424T133815
CREATED:20250504T044724Z
LAST-MODIFIED:20250504T044724Z
UID:20702-1747420200-1747422000@kematenkenntsich.com
SUMMARY:Gebet für den Frieden
DESCRIPTION:
URL:https://kematenkenntsich.com/event/gebet-fuer-den-frieden-110/
LOCATION:Pfarrkirche Kematen\, Dorfplatz 502\, Kematen\, Tirol\, 6175\, Österreich
ATTACH;FMTTYPE=image/jpeg:https://kematenkenntsich.com/wp-content/uploads/2025/05/Plakat_Gebet_fuer_den_Frieden_16Mai.jpg
ORGANIZER;CN="Kematen f%C3%BCr den Frieden":MAILTO:ukraine@kematenkenntsich.tirol
END:VEVENT
BEGIN:VEVENT
DTSTART;TZID=UTC:20250523T183000
DTEND;TZID=UTC:20250523T190000
DTSTAMP:20260424T133815
CREATED:20250504T044807Z
LAST-MODIFIED:20250504T045006Z
UID:20704-1748025000-1748026800@kematenkenntsich.com
SUMMARY:Gebet für den Frieden
DESCRIPTION:
URL:https://kematenkenntsich.com/event/gebet-fuer-den-frieden-111/
LOCATION:Pfarrkirche Kematen\, Dorfplatz 502\, Kematen\, Tirol\, 6175\, Österreich
ATTACH;FMTTYPE=image/jpeg:https://kematenkenntsich.com/wp-content/uploads/2025/05/Plakat_Gebet_fuer_den_Frieden_23Mai.jpg
ORGANIZER;CN="Kematen f%C3%BCr den Frieden":MAILTO:ukraine@kematenkenntsich.tirol
END:VEVENT
BEGIN:VEVENT
DTSTART;TZID=UTC:20250527T190000
DTEND;TZID=UTC:20250527T210000
DTSTAMP:20260424T133815
CREATED:20250516T100837Z
LAST-MODIFIED:20250516T100837Z
UID:20713-1748372400-1748379600@kematenkenntsich.com
SUMMARY:Gesunde Ernährung im Überblick
DESCRIPTION:
URL:https://kematenkenntsich.com/event/gesunde-ernaehrung-im-ueberblick/
LOCATION:Kentrum\, Dorfstraße 4\, Kematen in Tirol\, Tirol\, 6175\, Österreich
ATTACH;FMTTYPE=image/jpeg:https://kematenkenntsich.com/wp-content/uploads/2025/05/Dein-Koerper-Dein-Essen-Deine-Entscheidung.jpg
END:VEVENT
BEGIN:VEVENT
DTSTART;TZID=UTC:20250530T183000
DTEND;TZID=UTC:20250530T190000
DTSTAMP:20260424T133815
CREATED:20250504T044843Z
LAST-MODIFIED:20250504T044843Z
UID:20706-1748629800-1748631600@kematenkenntsich.com
SUMMARY:Gebet für den Frieden
DESCRIPTION:
URL:https://kematenkenntsich.com/event/gebet-fuer-den-frieden-112/
LOCATION:Pfarrkirche Kematen\, Dorfplatz 502\, Kematen\, Tirol\, 6175\, Österreich
ATTACH;FMTTYPE=image/jpeg:https://kematenkenntsich.com/wp-content/uploads/2025/05/Plakat_Gebet_fuer_den_Frieden_30Mai.jpg
ORGANIZER;CN="Kematen f%C3%BCr den Frieden":MAILTO:ukraine@kematenkenntsich.tirol
END:VEVENT
END:VCALENDAR