BEGIN:VCALENDAR
VERSION:2.0
PRODID:-//Kematenkenntsich.com - ECPv6.15.20//NONSGML v1.0//EN
CALSCALE:GREGORIAN
METHOD:PUBLISH
X-WR-CALNAME:Kematenkenntsich.com
X-ORIGINAL-URL:https://kematenkenntsich.com
X-WR-CALDESC:Veranstaltungen für Kematenkenntsich.com
REFRESH-INTERVAL;VALUE=DURATION:PT1H
X-Robots-Tag:noindex
X-PUBLISHED-TTL:PT1H
BEGIN:VTIMEZONE
TZID:Europe/Paris
BEGIN:DAYLIGHT
TZOFFSETFROM:+0100
TZOFFSETTO:+0200
TZNAME:CEST
DTSTART:20240331T010000
END:DAYLIGHT
BEGIN:STANDARD
TZOFFSETFROM:+0200
TZOFFSETTO:+0100
TZNAME:CET
DTSTART:20241027T010000
END:STANDARD
BEGIN:DAYLIGHT
TZOFFSETFROM:+0100
TZOFFSETTO:+0200
TZNAME:CEST
DTSTART:20250330T010000
END:DAYLIGHT
BEGIN:STANDARD
TZOFFSETFROM:+0200
TZOFFSETTO:+0100
TZNAME:CET
DTSTART:20251026T010000
END:STANDARD
BEGIN:DAYLIGHT
TZOFFSETFROM:+0100
TZOFFSETTO:+0200
TZNAME:CEST
DTSTART:20260329T010000
END:DAYLIGHT
BEGIN:STANDARD
TZOFFSETFROM:+0200
TZOFFSETTO:+0100
TZNAME:CET
DTSTART:20261025T010000
END:STANDARD
END:VTIMEZONE
BEGIN:VEVENT
DTSTART;TZID=Europe/Paris:20251205T140000
DTEND;TZID=Europe/Paris:20251205T163000
DTSTAMP:20260422T120535
CREATED:20251128T053540Z
LAST-MODIFIED:20251128T053540Z
UID:21272-1764943200-1764952200@kematenkenntsich.com
SUMMARY:Handarbeitscafe
DESCRIPTION:
URL:https://kematenkenntsich.com/event/handarbeitscafe-21/
LOCATION:Kentrum\, Dorfstraße 4\, Kematen in Tirol\, Tirol\, 6175\, Österreich
ATTACH;FMTTYPE=image/jpeg:https://kematenkenntsich.com/wp-content/uploads/2025/11/handarbeitscafe_251205-scaled.jpg
END:VEVENT
BEGIN:VEVENT
DTSTART;TZID=Europe/Paris:20251212T193000
DTEND;TZID=Europe/Paris:20251212T220000
DTSTAMP:20260422T120535
CREATED:20251123T110050Z
LAST-MODIFIED:20251123T110050Z
UID:21056-1765567800-1765576800@kematenkenntsich.com
SUMMARY:CD Präsentation von Christine Bardie
DESCRIPTION:
URL:https://kematenkenntsich.com/event/cd-praesentation-von-christine-bardie/
LOCATION:Kentrum\, Dorfstraße 4\, Kematen in Tirol\, Tirol\, 6175\, Österreich
ATTACH;FMTTYPE=image/jpeg:https://kematenkenntsich.com/wp-content/uploads/2025/11/christine-scaled.jpg
END:VEVENT
BEGIN:VEVENT
DTSTART;TZID=Europe/Paris:20251219T183000
DTEND;TZID=Europe/Paris:20251219T193000
DTSTAMP:20260422T120535
CREATED:20251203T082712Z
LAST-MODIFIED:20251203T082712Z
UID:21325-1766169000-1766172600@kematenkenntsich.com
SUMMARY:Begrüßung des Friedenslichts
DESCRIPTION:
URL:https://kematenkenntsich.com/event/begruessung-des-friedenslichts/
LOCATION:Pfarrkirche Kematen\, Dorfplatz 502\, Kematen\, Tirol\, 6175\, Österreich
ATTACH;FMTTYPE=image/jpeg:https://kematenkenntsich.com/wp-content/uploads/2025/12/Plakat_Gebet_fuer_den_Frieden.jpg
END:VEVENT
END:VCALENDAR